Workbook

Sheet Catálogo de actividades
B1: Catálogo de Actividades
A4: Subproceso | B4: Actividad | C4: ID | D4: Adscripción | E4: UR | F4: UR que informa | G4: UR que valida la modificación
A5: Mecanismos de coordinación | B5: Aprobación del Plan Integral y los Calendarios de Coordinación para los Procesos Electorales Locales Ordinarios. | C5: =_xlfn.CONCAT(XEW5,".",XEX5) -> 1.1 | D5: INE | E5: CG | F5: UTVOPL | G5: UTVOPL | XEW5: =_xlfn.XLOOKUP(A5,'Catálogo de actividades'!$XEW$401:$XEW$429,'Catálogo de actividades'!$XEX$401:$XEX$429) -> 1 | XEX5: =COUNTIF($XEW$5:XEW5,XEW5) -> 1
A6: Mecanismos de coordinación | B6: Aprobación del Cronograma o Calendario de Actividades para el Proceso Electoral Local Ordinario. | C6: =_xlfn.CONCAT(XEW6,".",XEX6) -> 1.2 | D6: OPL | E6: CG | F6: OPL | G6: OPL | XEW6: =_xlfn.XLOOKUP(A6,'Catálogo de actividades'!$XEW$401:$XEW$429,'Catálogo de actividades'!$XEX$401:$XEX$429) -> 1 | XEX6: =COUNTIF($XEW$5:XEW6,XEW6) -> 2
A7: Mecanismos de coordinación | B7: Elaboración del Plan de Trabajo conjunto para la Promoción de la Participación Ciudadana. | C7: =_xlfn.CONCAT(XEW7,".",XEX7) -> 1.3 | D7: INE | E7: DECEYEC/JLE/OPL | F7: JLE | G7: DECEYEC | XEW7: =_xlfn.XLOOKUP(A7,'Catálogo de actividades'!$XEW$401:$XEW$429,'Catálogo de actividades'!$XEX$401:$XEX$429) -> 1 | XEX7: =COUNTIF($XEW$5:XEW7,XEW7) -> 3
A8: Mecanismos de coordinación | B8: Sesión del Consejo General para dar inicio al Proceso Electoral Local Ordinario. | C8: =_xlfn.CONCAT(XEW8,".",XEX8) -> 1.4 | D8: OPL | E8: CG | F8: OPL | G8: OPL | XEW8: =_xlfn.XLOOKUP(A8,'Catálogo de actividades'!$XEW$401:$XEW$429,'Catálogo de actividades'!$XEX$401:$XEX$429) -> 1 | XEX8: =COUNTIF($XEW$5:XEW8,XEW8) -> 4
A9: Mecanismos de coordinación | B9: Implementación del Plan de Trabajo conjunto para la Promoción de la Participación Ciudadana. | C9: =_xlfn.CONCAT(XEW9,".",XEX9) -> 1.5 | D9: INE | E9: DECEYEC/JLE/OPL | F9: OPL | G9: DECEYEC | XEW9: =_xlfn.XLOOKUP(A9,'Catálogo de actividades'!$XEW$401:$XEW$429,'Catálogo de actividades'!$XEX$401:$XEX$429) -> 1 | XEX9: =COUNTIF($XEW$5:XEW9,XEW9) -> 5
A10: Integración de órganos desconcentrados | B10: Aprobación de la convocatoria para la integración de los Órganos Distritales. | C10: =_xlfn.CONCAT(XEW10,".",XEX10) -> 2.1 | D10: OPL | E10: CG | F10: OPL | G10: DEOE | XEW10: =_xlfn.XLOOKUP(A10,'Catálogo de actividades'!$XEW$401:$XEW$429,'Catálogo de actividades'!$XEX$401:$XEX$429) -> 2 | XEX10: =COUNTIF($XEW$5:XEW10,XEW10) -> 1
A11: Integración de órganos desconcentrados | B11: Sesión de designación e integración de los Órganos Distritales. | C11: =_xlfn.CONCAT(XEW11,".",XEX11) -> 2.2 | D11: OPL | E11: CG | F11: OPL | G11: DEOE | XEW11: =_xlfn.XLOOKUP(A11,'Catálogo de actividades'!$XEW$401:$XEW$429,'Catálogo de actividades'!$XEX$401:$XEX$429) -> 2 | XEX11: =COUNTIF($XEW$5:XEW11,XEW11) -> 2
A12: Integración de órganos desconcentrados | B12: Instalación de los Órganos Distritales. | C12: =_xlfn.CONCAT(XEW12,".",XEX12) -> 2.3 | D12: OPL | E12: OD | F12: OPL | G12: DEOE | XEW12: =_xlfn.XLOOKUP(A12,'Catálogo de actividades'!$XEW$401:$XEW$429,'Catálogo de actividades'!$XEX$401:$XEX$429) -> 2 | XEX12: =COUNTIF($XEW$5:XEW12,XEW12) -> 3
A13: Integración de órganos desconcentrados | B13: Publicación de la integración de los Consejos Locales y Distritales del INE. | C13: =_xlfn.CONCAT(XEW13,".",XEX13) -> 2.4 | D13: INE | E13: CL | F13: DEOE | G13: DEOE | XEW13: =_xlfn.XLOOKUP(A13,'Catálogo de actividades'!$XEW$401:$XEW$429,'Catálogo de actividades'!$XEX$401:$XEX$429) -> 2 | XEX13: =COUNTIF($XEW$5:XEW13,XEW13) -> 4
A14: Integración de órganos desconcentrados | B14: Instalación y operación de oficinas municipales. | C14: =_xlfn.CONCAT(XEW14,".",XEX14) -> 2.5 | D14: INE | E14: CD | F14: DEOE | G14: DEOE | XEW14: =_xlfn.XLOOKUP(A14,'Catálogo de actividades'!$XEW$401:$XEW$429,'Catálogo de actividades'!$XEX$401:$XEX$429) -> 2 | XEX14: =COUNTIF($XEW$5:XEW14,XEW14) -> 5
A15: Integración de órganos desconcentrados | B15: Aprobación de la convocatoria para la integración de los Órganos Municipales. | C15: =_xlfn.CONCAT(XEW15,".",XEX15) -> 2.6 | D15: OPL | E15: CG | F15: OPL | G15: UTVOPL | XEW15: =_xlfn.XLOOKUP(A15,'Catálogo de actividades'!$XEW$401:$XEW$429,'Catálogo de actividades'!$XEX$401:$XEX$429) -> 2 | XEX15: =COUNTIF($XEW$5:XEW15,XEW15) -> 6
A16: Integración de órganos desconcentrados | B16: Sesión de designación e integración de los Órganos Municipales. | C16: =_xlfn.CONCAT(XEW16,".",XEX16) -> 2.7 | D16: OPL | E16: CG | F16: OPL | G16: UTVOPL | XEW16: =_xlfn.XLOOKUP(A16,'Catálogo de actividades'!$XEW$401:$XEW$429,'Catálogo de actividades'!$XEX$401:$XEX$429) -> 2 | XEX16: =COUNTIF($XEW$5:XEW16,XEW16) -> 7
... A396: Datos electorales con perspectiva de género | B396: Envío a la UTIGyND de la base de Excel con datos de los resultados de la asignación de Regidurías por el principio de RP desagregados por acción afirmativas de las personas que resultaron electas. | C396: =_xlfn.CONCAT(XEW396,".",XEX396) -> 29.16 | D396: OPL | E396: CG | F396: OPL | G396: UTIGYND | XEW396: =_xlfn.XLOOKUP(A396,'Catálogo de actividades'!$XEW$401:$XEW$429,'Catálogo de actividades'!$XEX$401:$XEX$429) -> 29 | XEX396: =COUNTIF($XEW$5:XEW396,XEW396) -> 16
XEW401: Mecanismos de coordinación | XEX401: 1
XEW402: Integración de órganos desconcentrados | XEX402: 2
XEW403: Obligaciones y prerrogativas de los partidos, candidaturas y candidaturas independientes | XEX403: 3
XEW404: Radio y Televisión | XEX404: 4
XEW405: Bodegas electorales | XEX405: 5
XEW406: Lista Nominal de Electores | XEX406: 6
XEW407: Captación de Trámites | XEX407: 7
XEW408: Orientación Ciudadana | XEX408: 8
XEW409: Producción, Distribución y Entrega de la Credencial para Votar | XEX409: 9
XEW410: Observación Electoral | XEX410: 10
XEW411: Ubicación de casillas | XEX411: 11
XEW412: Integración de las Mesas Directivas de Casilla | XEX412: 12
... XEW429: Datos electorales con perspectiva de género | XEX429: 29

Sheet Calendarios de Coordinación
A1: Entidad | B1: Subproceso | C1: Actividad | D1: I.D. | E1: Adscripción | F1: UR | G1: UR que informa | H1: UR que valida la información | I1: Fecha de inicio | J1: Fecha de término
A2: Aguascalientes | B2: Mecanismos de coordinación | C2: Aprobación del Plan Integral y los Calendarios de Coordinación para los Procesos Electorales Locales Ordinarios. | D2: =_xlfn.XLOOKUP(C2,'Catálogo de actividades'!$B$5:$B$396,'Catálogo de actividades'!$C$5:$C$396) -> 1.1 | E2: =_xlfn.XLOOKUP(C2,'Catálogo de actividades'!$B$5:$B$396,'Catálogo de actividades'!$D$5:$D$396) -> INE | F2: =_xlfn.XLOOKUP(C2,'Catálogo de actividades'!$B$5:$B$396,'Catálogo de actividades'!$E$5:$E$396) -> CG | G2: =_xlfn.XLOOKUP(C2,'Catálogo de actividades'!$B$5:$B$396,'Catálogo de actividades'!$F$5:$F$396) -> UTVOPL | H2: =_xlfn.XLOOKUP(C2,'Catálogo de actividades'!$B$5:$B$396,'Catálogo de actividades'!$G$5:$G$396) -> UTVOPL | I2: 46218 | J2: 46235
A3: Aguascalientes | B3: Mecanismos de coordinación | C3: Aprobación del Cronograma o Calendario de Actividades para el Proceso Electoral Local Ordinario. | D3: =_xlfn.XLOOKUP(C3,'Catálogo de actividades'!$B$5:$B$396,'Catálogo de actividades'!$C$5:$C$396) -> 1.2 | E3: =_xlfn.XLOOKUP(C3,'Catálogo de actividades'!$B$5:$B$396,'Catálogo de actividades'!$D$5:$D$396) -> OPL | F3: =_xlfn.XLOOKUP(C3,'Catálogo de actividades'!$B$5:$B$396,'Catálogo de actividades'!$E$5:$E$396) -> CG | G3: =_xlfn.XLOOKUP(C3,'Catálogo de actividades'!$B$5:$B$396,'Catálogo de actividades'!$F$5:$F$396) -> OPL | H3: =_xlfn.XLOOKUP(C3,'Catálogo de actividades'!$B$5:$B$396,'Catálogo de actividades'!$G$5:$G$396) -> OPL | I3: 46218 | J3: 46235
A4: Aguascalientes | B4: Mecanismos de coordinación | C4: Elaboración del Plan de Trabajo conjunto para la Promoción de la Participación Ciudadana. | D4: =_xlfn.XLOOKUP(C4,'Catálogo de actividades'!$B$5:$B$396,'Catálogo de actividades'!$C$5:$C$396) -> 1.3 | E4: =_xlfn.XLOOKUP(C4,'Catálogo de actividades'!$B$5:$B$396,'Catálogo de actividades'!$D$5:$D$396) -> INE | F4: =_xlfn.XLOOKUP(C4,'Catálogo de actividades'!$B$5:$B$396,'Catálogo de actividades'!$E$5:$E$396) -> DECEYEC/JLE/OPL | G4: =_xlfn.XLOOKUP(C4,'Catálogo de actividades'!$B$5:$B$396,'Catálogo de actividades'!$F$5:$F$396) -> JLE | H4: =_xlfn.XLOOKUP(C4,'Catálogo de actividades'!$B$5:$B$396,'Catálogo de actividades'!$G$5:$G$396) -> DECEYEC | I4: 46357 | J4: 46402
A5: Aguascalientes | B5: Mecanismos de coordinación | C5: Sesión del Consejo General para dar inicio al Proceso Electoral Local Ordinario. | D5: =_xlfn.XLOOKUP(C5,'Catálogo de actividades'!$B$5:$B$396,'Catálogo de actividades'!$C$5:$C$396) -> 1.4 | E5: =_xlfn.XLOOKUP(C5,'Catálogo de actividades'!$B$5:$B$396,'Catálogo de actividades'!$D$5:$D$396) -> OPL | F5: =_xlfn.XLOOKUP(C5,'Catálogo de actividades'!$B$5:$B$396,'Catálogo de actividades'!$E$5:$E$396) -> CG | G5: =_xlfn.XLOOKUP(C5,'Catálogo de actividades'!$B$5:$B$396,'Catálogo de actividades'!$F$5:$F$396) -> OPL | H5: =_xlfn.XLOOKUP(C5,'Catálogo de actividades'!$B$5:$B$396,'Catálogo de actividades'!$G$5:$G$396) -> OPL | I5: 46299 | J5: 46305
A6: Aguascalientes | B6: Mecanismos de coordinación | C6: Implementación del Plan de Trabajo conjunto para la Promoción de la Participación Ciudadana. | D6: =_xlfn.XLOOKUP(C6,'Catálogo de actividades'!$B$5:$B$396,'Catálogo de actividades'!$C$5:$C$396) -> 1.5 | E6: =_xlfn.XLOOKUP(C6,'Catálogo de actividades'!$B$5:$B$396,'Catálogo de actividades'!$D$5:$D$396) -> INE | F6: =_xlfn.XLOOKUP(C6,'Catálogo de actividades'!$B$5:$B$396,'Catálogo de actividades'!$E$5:$E$396) -> DECEYEC/JLE/OPL | G6: =_xlfn.XLOOKUP(C6,'Catálogo de actividades'!$B$5:$B$396,'Catálogo de actividades'!$F$5:$F$396) -> OPL | H6: =_xlfn.XLOOKUP(C6,'Catálogo de actividades'!$B$5:$B$396,'Catálogo de actividades'!$G$5:$G$396) -> DECEYEC | I6: 46419 | J6: 46544
A7: Aguascalientes | B7: Integración de órganos desconcentrados | C7: Aprobación de la convocatoria para la integración de los Órganos Distritales. | D7: =_xlfn.XLOOKUP(C7,'Catálogo de actividades'!$B$5:$B$396,'Catálogo de actividades'!$C$5:$C$396) -> 2.1 | E7: =_xlfn.XLOOKUP(C7,'Catálogo de actividades'!$B$5:$B$396,'Catálogo de actividades'!$D$5:$D$396) -> OPL | F7: =_xlfn.XLOOKUP(C7,'Catálogo de actividades'!$B$5:$B$396,'Catálogo de actividades'!$E$5:$E$396) -> CG | G7: =_xlfn.XLOOKUP(C7,'Catálogo de actividades'!$B$5:$B$396,'Catálogo de actividades'!$F$5:$F$396) -> OPL | H7: =_xlfn.XLOOKUP(C7,'Catálogo de actividades'!$B$5:$B$396,'Catálogo de actividades'!$G$5:$G$396) -> DEOE | I7: 46327 | J7: 46333
A8: Aguascalientes | B8: Integración de órganos desconcentrados | C8: Sesión de designación e integración de los Órganos Distritales. | D8: =_xlfn.XLOOKUP(C8,'Catálogo de actividades'!$B$5:$B$396,'Catálogo de actividades'!$C$5:$C$396) -> 2.2 | E8: =_xlfn.XLOOKUP(C8,'Catálogo de actividades'!$B$5:$B$396,'Catálogo de actividades'!$D$5:$D$396) -> OPL | F8: =_xlfn.XLOOKUP(C8,'Catálogo de actividades'!$B$5:$B$396,'Catálogo de actividades'!$E$5:$E$396) -> CG | G8: =_xlfn.XLOOKUP(C8,'Catálogo de actividades'!$B$5:$B$396,'Catálogo de actividades'!$F$5:$F$396) -> OPL | H8: =_xlfn.XLOOKUP(C8,'Catálogo de actividades'!$B$5:$B$396,'Catálogo de actividades'!$G$5:$G$396) -> DEOE | I8: 46372 | J8: 46387
A9: Aguascalientes | B9: Integración de órganos desconcentrados | C9: Instalación de los Órganos Distritales. | D9: =_xlfn.XLOOKUP(C9,'Catálogo de actividades'!$B$5:$B$396,'Catálogo de actividades'!$C$5:$C$396) -> 2.3 | E9: =_xlfn.XLOOKUP(C9,'Catálogo de actividades'!$B$5:$B$396,'Catálogo de actividades'!$D$5:$D$396) -> OPL | F9: =_xlfn.XLOOKUP(C9,'Catálogo de actividades'!$B$5:$B$396,'Catálogo de actividades'!$E$5:$E$396) -> OD | G9: =_xlfn.XLOOKUP(C9,'Catálogo de actividades'!$B$5:$B$396,'Catálogo de actividades'!$F$5:$F$396) -> OPL | H9: =_xlfn.XLOOKUP(C9,'Catálogo de actividades'!$B$5:$B$396,'Catálogo de actividades'!$G$5:$G$396) -> DEOE | I9: 46425 | J9: 46431
A10: Aguascalientes | B10: Integración de órganos desconcentrados | C10: Publicación de la integración de los Consejos Locales y Distritales del INE. | D10: =_xlfn.XLOOKUP(C10,'Catálogo de actividades'!$B$5:$B$396,'Catálogo de actividades'!$C$5:$C$396) -> 2.4 | E10: =_xlfn.XLOOKUP(C10,'Catálogo de actividades'!$B$5:$B$396,'Catálogo de actividades'!$D$5:$D$396) -> INE | F10: =_xlfn.XLOOKUP(C10,'Catálogo de actividades'!$B$5:$B$396,'Catálogo de actividades'!$E$5:$E$396) -> CL | G10: =_xlfn.XLOOKUP(C10,'Catálogo de actividades'!$B$5:$B$396,'Catálogo de actividades'!$F$5:$F$396) -> DEOE | H10: =_xlfn.XLOOKUP(C10,'Catálogo de actividades'!$B$5:$B$396,'Catálogo de actividades'!$G$5:$G$396) -> DEOE | I10: 46419 | J10: 46446
A11: Aguascalientes | B11: Integración de órganos desconcentrados | C11: Instalación y operación de oficinas municipales. | D11: =_xlfn.XLOOKUP(C11,'Catálogo de actividades'!$B$5:$B$396,'Catálogo de actividades'!$C$5:$C$396) -> 2.5 | E11: =_xlfn.XLOOKUP(C11,'Catálogo de actividades'!$B$5:$B$396,'Catálogo de actividades'!$D$5:$D$396) -> INE | F11: =_xlfn.XLOOKUP(C11,'Catálogo de actividades'!$B$5:$B$396,'Catálogo de actividades'!$E$5:$E$396) -> CD | G11: =_xlfn.XLOOKUP(C11,'Catálogo de actividades'!$B$5:$B$396,'Catálogo de actividades'!$F$5:$F$396) -> DEOE | H11: =_xlfn.XLOOKUP(C11,'Catálogo de actividades'!$B$5:$B$396,'Catálogo de actividades'!$G$5:$G$396) -> DEOE | I11: 46388 | J11: 46568
A12: Aguascalientes | B12: Integración de órganos desconcentrados | C12: Aprobación de la convocatoria para la integración de los Órganos Municipales. | D12: =_xlfn.XLOOKUP(C12,'Catálogo de actividades'!$B$5:$B$396,'Catálogo de actividades'!$C$5:$C$396) -> 2.6 | E12: =_xlfn.XLOOKUP(C12,'Catálogo de actividades'!$B$5:$B$396,'Catálogo de actividades'!$D$5:$D$396) -> OPL | F12: =_xlfn.XLOOKUP(C12,'Catálogo de actividades'!$B$5:$B$396,'Catálogo de actividades'!$E$5:$E$396) -> CG | G12: =_xlfn.XLOOKUP(C12,'Catálogo de actividades'!$B$5:$B$396,'Catálogo de actividades'!$F$5:$F$396) -> OPL | H12: =_xlfn.XLOOKUP(C12,'Catálogo de actividades'!$B$5:$B$396,'Catálogo de actividades'!$G$5:$G$396) -> UTVOPL | I12: 46327 | J12: 46333
A13: Aguascalientes | B13: Integración de órganos desconcentrados | C13: Sesión de designación e integración de los Órganos Municipales. | D13: =_xlfn.XLOOKUP(C13,'Catálogo de actividades'!$B$5:$B$396,'Catálogo de actividades'!$C$5:$C$396) -> 2.7 | E13: =_xlfn.XLOOKUP(C13,'Catálogo de actividades'!$B$5:$B$396,'Catálogo de actividades'!$D$5:$D$396) -> OPL | F13: =_xlfn.XLOOKUP(C13,'Catálogo de actividades'!$B$5:$B$396,'Catálogo de actividades'!$E$5:$E$396) -> CG | G13: =_xlfn.XLOOKUP(C13,'Catálogo de actividades'!$B$5:$B$396,'Catálogo de actividades'!$F$5:$F$396) -> OPL | H13: =_xlfn.XLOOKUP(C13,'Catálogo de actividades'!$B$5:$B$396,'Catálogo de actividades'!$G$5:$G$396) -> UTVOPL | I13: 46372 | J13: 46387
... A2972: Colima | B2972: Candidaturas | C2972: Solicitud de registro de Convenio de Candidaturas Comunes para Ayuntamientos. | D2972: =_xlfn.XLOOKUP(C2972,'Catálogo de actividades'!$B$5:$B$396,'Catálogo de actividades'!$C$5:$C$396) -> 15.9 | E2972: =_xlfn.XLOOKUP(C2972,'Catálogo de actividades'!$B$5:$B$396,'Catálogo de actividades'!$D$5:$D$396) -> OPL | F2972: =_xlfn.XLOOKUP(C2972,'Catálogo de actividades'!$B$5:$B$396,'Catálogo de actividades'!$E$5:$E$396) -> OPL | G2972: =_xlfn.XLOOKUP(C2972,'Catálogo de actividades'!$B$5:$B$396,'Catálogo de actividades'!$F$5:$F$396) -> OPL | H2972: =_xlfn.XLOOKUP(C2972,'Catálogo de actividades'!$B$5:$B$396,'Catálogo de actividades'!$G$5:$G$396) -> OPL | I2972: 46296 | J2972: 46378
A2973: Colima | B2973: Candidaturas | C2973: Resolución para aprobar el Convenio de Candidaturas Comunes para Gubernatura. | D2973: =_xlfn.XLOOKUP(C2973,'Catálogo de actividades'!$B$5:$B$396,'Catálogo de actividades'!$C$5:$C$396) -> 15.10 | E2973: =_xlfn.XLOOKUP(C2973,'Catálogo de actividades'!$B$5:$B$396,'Catálogo de actividades'!$D$5:$D$396) -> OPL | F2973: =_xlfn.XLOOKUP(C2973,'Catálogo de actividades'!$B$5:$B$396,'Catálogo de actividades'!$E$5:$E$396) -> CG | G2973: =_xlfn.XLOOKUP(C2973,'Catálogo de actividades'!$B$5:$B$396,'Catálogo de actividades'!$F$5:$F$396) -> OPL | H2973: =_xlfn.XLOOKUP(C2973,'Catálogo de actividades'!$B$5:$B$396,'Catálogo de actividades'!$G$5:$G$396) -> OPL | I2973: =I2970+9 -> 46305 | J2973: 46387
A2974: Colima | B2974: Candidaturas | C2974: Resolución para aprobar el Convenio de Candidaturas Comunes para Diputaciones. | D2974: =_xlfn.XLOOKUP(C2974,'Catálogo de actividades'!$B$5:$B$396,'Catálogo de actividades'!$C$5:$C$396) -> 15.11 | E2974: =_xlfn.XLOOKUP(C2974,'Catálogo de actividades'!$B$5:$B$396,'Catálogo de actividades'!$D$5:$D$396) -> OPL | F2974: =_xlfn.XLOOKUP(C2974,'Catálogo de actividades'!$B$5:$B$396,'Catálogo de actividades'!$E$5:$E$396) -> OPL | G2974: =_xlfn.XLOOKUP(C2974,'Catálogo de actividades'!$B$5:$B$396,'Catálogo de actividades'!$F$5:$F$396) -> OPL | H2974: =_xlfn.XLOOKUP(C2974,'Catálogo de actividades'!$B$5:$B$396,'Catálogo de actividades'!$G$5:$G$396) -> OPL | I2974: =I2971+9 -> 46305 | J2974: 46388
A2975: Colima | B2975: Candidaturas | C2975: Resolución para aprobar el Convenio de Candidaturas Comunes para Ayuntamientos. | D2975: =_xlfn.XLOOKUP(C2975,'Catálogo de actividades'!$B$5:$B$396,'Catálogo de actividades'!$C$5:$C$396) -> 15.12 | E2975: =_xlfn.XLOOKUP(C2975,'Catálogo de actividades'!$B$5:$B$396,'Catálogo de actividades'!$D$5:$D$396) -> OPL | F2975: =_xlfn.XLOOKUP(C2975,'Catálogo de actividades'!$B$5:$B$396,'Catálogo de actividades'!$E$5:$E$396) -> OPL | G2975: =_xlfn.XLOOKUP(C2975,'Catálogo de actividades'!$B$5:$B$396,'Catálogo de actividades'!$F$5:$F$396) -> OPL | H2975: =_xlfn.XLOOKUP(C2975,'Catálogo de actividades'!$B$5:$B$396,'Catálogo de actividades'!$G$5:$G$396) -> OPL | I2975: =I2972+9 -> 46305 | J2975: 46388
A2976: Colima | B2976: Candidaturas | C2976: Precampaña para Gubernatura. | D2976: =_xlfn.XLOOKUP(C2976,'Catálogo de actividades'!$B$5:$B$396,'Catálogo de actividades'!$C$5:$C$396) -> 15.13 | E2976: =_xlfn.XLOOKUP(C2976,'Catálogo de actividades'!$B$5:$B$396,'Catálogo de actividades'!$D$5:$D$396) -> OPL | F2976: =_xlfn.XLOOKUP(C2976,'Catálogo de actividades'!$B$5:$B$396,'Catálogo de actividades'!$E$5:$E$396) -> CG | G2976: =_xlfn.XLOOKUP(C2976,'Catálogo de actividades'!$B$5:$B$396,'Catálogo de actividades'!$F$5:$F$396) -> OPL | H2976: =_xlfn.XLOOKUP(C2976,'Catálogo de actividades'!$B$5:$B$396,'Catálogo de actividades'!$G$5:$G$396) -> OPL | I2976: 46378 | J2976: 46397
A2977: Colima | B2977: Candidaturas | C2977: Precampaña para Diputaciones. | D2977: =_xlfn.XLOOKUP(C2977,'Catálogo de actividades'!$B$5:$B$396,'Catálogo de actividades'!$C$5:$C$396) -> 15.14 | E2977: =_xlfn.XLOOKUP(C2977,'Catálogo de actividades'!$B$5:$B$396,'Catálogo de actividades'!$D$5:$D$396) -> OPL | F2977: =_xlfn.XLOOKUP(C2977,'Catálogo de actividades'!$B$5:$B$396,'Catálogo de actividades'!$E$5:$E$396) -> CG | G2977: =_xlfn.XLOOKUP(C2977,'Catálogo de actividades'!$B$5:$B$396,'Catálogo de actividades'!$F$5:$F$396) -> OPL | H2977: =_xlfn.XLOOKUP(C2977,'Catálogo de actividades'!$B$5:$B$396,'Catálogo de actividades'!$G$5:$G$396) -> OPL | I2977: 46378 | J2977: 46397
A2978: Colima | B2978: Candidaturas | C2978: Precampaña para Ayuntamientos. | D2978: =_xlfn.XLOOKUP(C2978,'Catálogo de actividades'!$B$5:$B$396,'Catálogo de actividades'!$C$5:$C$396) -> 15.15 | E2978: =_xlfn.XLOOKUP(C2978,'Catálogo de actividades'!$B$5:$B$396,'Catálogo de actividades'!$D$5:$D$396) -> OPL | F2978: =_xlfn.XLOOKUP(C2978,'Catálogo de actividades'!$B$5:$B$396,'Catálogo de actividades'!$E$5:$E$396) -> CG | G2978: =_xlfn.XLOOKUP(C2978,'Catálogo de actividades'!$B$5:$B$396,'Catálogo de actividades'!$F$5:$F$396) -> OPL | H2978: =_xlfn.XLOOKUP(C2978,'Catálogo de actividades'!$B$5:$B$396,'Catálogo de actividades'!$G$5:$G$396) -> OPL | I2978: 46378 | J2978: 46397
A2979: Colima | B2979: Candidaturas | C2979: Solicitud de registro de Candidaturas para Gubernatura. | D2979: =_xlfn.XLOOKUP(C2979,'Catálogo de actividades'!$B$5:$B$396,'Catálogo de actividades'!$C$5:$C$396) -> 15.16 | E2979: =_xlfn.XLOOKUP(C2979,'Catálogo de actividades'!$B$5:$B$396,'Catálogo de actividades'!$D$5:$D$396) -> OPL | F2979: =_xlfn.XLOOKUP(C2979,'Catálogo de actividades'!$B$5:$B$396,'Catálogo de actividades'!$E$5:$E$396) -> CG | G2979: =_xlfn.XLOOKUP(C2979,'Catálogo de actividades'!$B$5:$B$396,'Catálogo de actividades'!$F$5:$F$396) -> OPL | H2979: =_xlfn.XLOOKUP(C2979,'Catálogo de actividades'!$B$5:$B$396,'Catálogo de actividades'!$G$5:$G$396) -> OPL | I2979: 46461 | J2979: 46469
A2980: Colima | B2980: Candidaturas | C2980: Solicitud de registro de Candidaturas para Diputaciones. | D2980: =_xlfn.XLOOKUP(C2980,'Catálogo de actividades'!$B$5:$B$396,'Catálogo de actividades'!$C$5:$C$396) -> 15.17 | E2980: =_xlfn.XLOOKUP(C2980,'Catálogo de actividades'!$B$5:$B$396,'Catálogo de actividades'!$D$5:$D$396) -> OPL | F2980: =_xlfn.XLOOKUP(C2980,'Catálogo de actividades'!$B$5:$B$396,'Catálogo de actividades'!$E$5:$E$396) -> CG | G2980: =_xlfn.XLOOKUP(C2980,'Catálogo de actividades'!$B$5:$B$396,'Catálogo de actividades'!$F$5:$F$396) -> OPL | H2980: =_xlfn.XLOOKUP(C2980,'Catálogo de actividades'!$B$5:$B$396,'Catálogo de actividades'!$G$5:$G$396) -> OPL | I2980: 46461 | J2980: 46469
A2981: Colima | B2981: Candidaturas | C2981: Solicitud de registro de Candidaturas para Ayuntamientos. | D2981: =_xlfn.XLOOKUP(C2981,'Catálogo de actividades'!$B$5:$B$396,'Catálogo de actividades'!$C$5:$C$396) -> 15.18 | E2981: =_xlfn.XLOOKUP(C2981,'Catálogo de actividades'!$B$5:$B$396,'Catálogo de actividades'!$D$5:$D$396) -> OPL | F2981: =_xlfn.XLOOKUP(C2981,'Catálogo de actividades'!$B$5:$B$396,'Catálogo de actividades'!$E$5:$E$396) -> CG | G2981: =_xlfn.XLOOKUP(C2981,'Catálogo de actividades'!$B$5:$B$396,'Catálogo de actividades'!$F$5:$F$396) -> OPL | H2981: =_xlfn.XLOOKUP(C2981,'Catálogo de actividades'!$B$5:$B$396,'Catálogo de actividades'!$G$5:$G$396) -> OPL | I2981: 46461 | J2981: 46469
A2982: Colima | B2982: Candidaturas | C2982: Resolución para aprobar las Candidaturas para Gubernatura. | D2982: =_xlfn.XLOOKUP(C2982,'Catálogo de actividades'!$B$5:$B$396,'Catálogo de actividades'!$C$5:$C$396) -> 15.19 | E2982: =_xlfn.XLOOKUP(C2982,'Catálogo de actividades'!$B$5:$B$396,'Catálogo de actividades'!$D$5:$D$396) -> OPL | F2982: =_xlfn.XLOOKUP(C2982,'Catálogo de actividades'!$B$5:$B$396,'Catálogo de actividades'!$E$5:$E$396) -> CG | G2982: =_xlfn.XLOOKUP(C2982,'Catálogo de actividades'!$B$5:$B$396,'Catálogo de actividades'!$F$5:$F$396) -> OPL | H2982: =_xlfn.XLOOKUP(C2982,'Catálogo de actividades'!$B$5:$B$396,'Catálogo de actividades'!$G$5:$G$396) -> OPL | I2982: 46470 | J2982: 46474
A2983: Colima | B2983: Candidaturas | C2983: Resolución para aprobar las Candidaturas para Diputaciones. | D2983: =_xlfn.XLOOKUP(C2983,'Catálogo de actividades'!$B$5:$B$396,'Catálogo de actividades'!$C$5:$C$396) -> 15.20 | E2983: =_xlfn.XLOOKUP(C2983,'Catálogo de actividades'!$B$5:$B$396,'Catálogo de actividades'!$D$5:$D$396) -> OPL | F2983: =_xlfn.XLOOKUP(C2983,'Catálogo de actividades'!$B$5:$B$396,'Catálogo de actividades'!$E$5:$E$396) -> CG | G2983: =_xlfn.XLOOKUP(C2983,'Catálogo de actividades'!$B$5:$B$396,'Catálogo de actividades'!$F$5:$F$396) -> OPL | H2983: =_xlfn.XLOOKUP(C2983,'Catálogo de actividades'!$B$5:$B$396,'Catálogo de actividades'!$G$5:$G$396) -> OPL | I2983: 46470 | J2983: 46474
A2984: Colima | B2984: Candidaturas | C2984: Resolución para aprobar las Candidaturas para Ayuntamientos. | D2984: =_xlfn.XLOOKUP(C2984,'Catálogo de actividades'!$B$5:$B$396,'Catálogo de actividades'!$C$5:$C$396) -> 15.21 | E2984: =_xlfn.XLOOKUP(C2984,'Catálogo de actividades'!$B$5:$B$396,'Catálogo de actividades'!$D$5:$D$396) -> OPL | F2984: =_xlfn.XLOOKUP(C2984,'Catálogo de actividades'!$B$5:$B$396,'Catálogo de actividades'!$E$5:$E$396) -> CG | G2984: =_xlfn.XLOOKUP(C2984,'Catálogo de actividades'!$B$5:$B$396,'Catálogo de actividades'!$F$5:$F$396) -> OPL | H2984: =_xlfn.XLOOKUP(C2984,'Catálogo de actividades'!$B$5:$B$396,'Catálogo de actividades'!$G$5:$G$396) -> OPL | I2984: 46470 | J2984: 46474
A2985: Colima | B2985: Candidaturas | C2985: Campaña para Gubernatura. | D2985: =_xlfn.XLOOKUP(C2985,'Catálogo de actividades'!$B$5:$B$396,'Catálogo de actividades'!$C$5:$C$396) -> 15.22 | E2985: =_xlfn.XLOOKUP(C2985,'Catálogo de actividades'!$B$5:$B$396,'Catálogo de actividades'!$D$5:$D$396) -> OPL | F2985: =_xlfn.XLOOKUP(C2985,'Catálogo de actividades'!$B$5:$B$396,'Catálogo de actividades'!$E$5:$E$396) -> CG | G2985: =_xlfn.XLOOKUP(C2985,'Catálogo de actividades'!$B$5:$B$396,'Catálogo de actividades'!$F$5:$F$396) -> OPL | H2985: =_xlfn.XLOOKUP(C2985,'Catálogo de actividades'!$B$5:$B$396,'Catálogo de actividades'!$G$5:$G$396) -> OPL | I2985: 46481 | J2985: 46540
A2986: Colima | B2986: Candidaturas | C2986: Campaña para Diputaciones. | D2986: =_xlfn.XLOOKUP(C2986,'Catálogo de actividades'!$B$5:$B$396,'Catálogo de actividades'!$C$5:$C$396) -> 15.23 | E2986: =_xlfn.XLOOKUP(C2986,'Catálogo de actividades'!$B$5:$B$396,'Catálogo de actividades'!$D$5:$D$396) -> OPL | F2986: =_xlfn.XLOOKUP(C2986,'Catálogo de actividades'!$B$5:$B$396,'Catálogo de actividades'!$E$5:$E$396) -> CG | G2986: =_xlfn.XLOOKUP(C2986,'Catálogo de actividades'!$B$5:$B$396,'Catálogo de actividades'!$F$5:$F$396) -> OPL | H2986: =_xlfn.XLOOKUP(C2986,'Catálogo de actividades'!$B$5:$B$396,'Catálogo de actividades'!$G$5:$G$396) -> OPL | I2986: 46481 | J2986: 46540
A2987: Colima | B2987: Candidaturas | C2987: Campaña para Ayuntamientos. | D2987: =_xlfn.XLOOKUP(C2987,'Catálogo de actividades'!$B$5:$B$396,'Catálogo de actividades'!$C$5:$C$396) -> 15.24 | E2987: =_xlfn.XLOOKUP(C2987,'Catálogo de actividades'!$B$5:$B$396,'Catálogo de actividades'!$D$5:$D$396) -> OPL | F2987: =_xlfn.XLOOKUP(C2987,'Catálogo de actividades'!$B$5:$B$396,'Catálogo de actividades'!$E$5:$E$396) -> CG | G2987: =_xlfn.XLOOKUP(C2987,'Catálogo de actividades'!$B$5:$B$396,'Catálogo de actividades'!$F$5:$F$396) -> OPL | H2987: =_xlfn.XLOOKUP(C2987,'Catálogo de actividades'!$B$5:$B$396,'Catálogo de actividades'!$G$5:$G$396) -> OPL | I2987: 46481 | J2987: 46540
... A4698: Jalisco | B4698: Candidaturas | C4698: Solicitud de registro de Convenio de Coalición para Ayuntamientos. | D4698: =_xlfn.XLOOKUP(C4698,'Catálogo de actividades'!$B$5:$B$396,'Catálogo de actividades'!$C$5:$C$396) -> 15.3 | E4698: =_xlfn.XLOOKUP(C4698,'Catálogo de actividades'!$B$5:$B$396,'Catálogo de actividades'!$D$5:$D$396) -> OPL | F4698: =_xlfn.XLOOKUP(C4698,'Catálogo de actividades'!$B$5:$B$396,'Catálogo de actividades'!$E$5:$E$396) -> CG | G4698: =_xlfn.XLOOKUP(C4698,'Catálogo de actividades'!$B$5:$B$396,'Catálogo de actividades'!$F$5:$F$396) -> OPL | H4698: =_xlfn.XLOOKUP(C4698,'Catálogo de actividades'!$B$5:$B$396,'Catálogo de actividades'!$G$5:$G$396) -> OPL | I4698: 46296 | J4698: 46369
A4699: Jalisco | B4699: Candidaturas | C4699: Resolución sobre Convenio de Coalición para Diputaciones. | D4699: =_xlfn.XLOOKUP(C4699,'Catálogo de actividades'!$B$5:$B$396,'Catálogo de actividades'!$C$5:$C$396) -> 15.5 | E4699: =_xlfn.XLOOKUP(C4699,'Catálogo de actividades'!$B$5:$B$396,'Catálogo de actividades'!$D$5:$D$396) -> OPL | F4699: =_xlfn.XLOOKUP(C4699,'Catálogo de actividades'!$B$5:$B$396,'Catálogo de actividades'!$E$5:$E$396) -> CG | G4699: =_xlfn.XLOOKUP(C4699,'Catálogo de actividades'!$B$5:$B$396,'Catálogo de actividades'!$F$5:$F$396) -> OPL | H4699: =_xlfn.XLOOKUP(C4699,'Catálogo de actividades'!$B$5:$B$396,'Catálogo de actividades'!$G$5:$G$396) -> OPL | I4699: 46370 | J4699: =I4699+9 -> 46379
A4700: Jalisco | B4700: Candidaturas | C4700: Resolución sobre Convenio de Coalición para Ayuntamientos. | D4700: =_xlfn.XLOOKUP(C4700,'Catálogo de actividades'!$B$5:$B$396,'Catálogo de actividades'!$C$5:$C$396) -> 15.6 | E4700: =_xlfn.XLOOKUP(C4700,'Catálogo de actividades'!$B$5:$B$396,'Catálogo de actividades'!$D$5:$D$396) -> OPL | F4700: =_xlfn.XLOOKUP(C4700,'Catálogo de actividades'!$B$5:$B$396,'Catálogo de actividades'!$E$5:$E$396) -> CG | G4700: =_xlfn.XLOOKUP(C4700,'Catálogo de actividades'!$B$5:$B$396,'Catálogo de actividades'!$F$5:$F$396) -> OPL | H4700: =_xlfn.XLOOKUP(C4700,'Catálogo de actividades'!$B$5:$B$396,'Catálogo de actividades'!$G$5:$G$396) -> OPL | I4700: 46370 | J4700: 46379
A4701: Jalisco | B4701: Candidaturas | C4701: Precampaña para Diputaciones. | D4701: =_xlfn.XLOOKUP(C4701,'Catálogo de actividades'!$B$5:$B$396,'Catálogo de actividades'!$C$5:$C$396) -> 15.14 | E4701: =_xlfn.XLOOKUP(C4701,'Catálogo de actividades'!$B$5:$B$396,'Catálogo de actividades'!$D$5:$D$396) -> OPL | F4701: =_xlfn.XLOOKUP(C4701,'Catálogo de actividades'!$B$5:$B$396,'Catálogo de actividades'!$E$5:$E$396) -> CG | G4701: =_xlfn.XLOOKUP(C4701,'Catálogo de actividades'!$B$5:$B$396,'Catálogo de actividades'!$F$5:$F$396) -> OPL | H4701: =_xlfn.XLOOKUP(C4701,'Catálogo de actividades'!$B$5:$B$396,'Catálogo de actividades'!$G$5:$G$396) -> OPL | I4701: 46369 | J4701: 46408
A4702: Jalisco | B4702: Candidaturas | C4702: Precampaña para Ayuntamientos. | D4702: =_xlfn.XLOOKUP(C4702,'Catálogo de actividades'!$B$5:$B$396,'Catálogo de actividades'!$C$5:$C$396) -> 15.15 | E4702: =_xlfn.XLOOKUP(C4702,'Catálogo de actividades'!$B$5:$B$396,'Catálogo de actividades'!$D$5:$D$396) -> OPL | F4702: =_xlfn.XLOOKUP(C4702,'Catálogo de actividades'!$B$5:$B$396,'Catálogo de actividades'!$E$5:$E$396) -> CG | G4702: =_xlfn.XLOOKUP(C4702,'Catálogo de actividades'!$B$5:$B$396,'Catálogo de actividades'!$F$5:$F$396) -> OPL | H4702: =_xlfn.XLOOKUP(C4702,'Catálogo de actividades'!$B$5:$B$396,'Catálogo de actividades'!$G$5:$G$396) -> OPL | I4702: 46369 | J4702: 46408
A4703: Jalisco | B4703: Candidaturas | C4703: Solicitud de registro de Candidaturas para Diputaciones. | D4703: =_xlfn.XLOOKUP(C4703,'Catálogo de actividades'!$B$5:$B$396,'Catálogo de actividades'!$C$5:$C$396) -> 15.17 | E4703: =_xlfn.XLOOKUP(C4703,'Catálogo de actividades'!$B$5:$B$396,'Catálogo de actividades'!$D$5:$D$396) -> OPL | F4703: =_xlfn.XLOOKUP(C4703,'Catálogo de actividades'!$B$5:$B$396,'Catálogo de actividades'!$E$5:$E$396) -> CG | G4703: =_xlfn.XLOOKUP(C4703,'Catálogo de actividades'!$B$5:$B$396,'Catálogo de actividades'!$F$5:$F$396) -> OPL | H4703: =_xlfn.XLOOKUP(C4703,'Catálogo de actividades'!$B$5:$B$396,'Catálogo de actividades'!$G$5:$G$396) -> OPL | I4703: 46447 | J4703: 46460
A4704: Jalisco | B4704: Candidaturas | C4704: Solicitud de registro de Candidaturas para Ayuntamientos. | D4704: =_xlfn.XLOOKUP(C4704,'Catálogo de actividades'!$B$5:$B$396,'Catálogo de actividades'!$C$5:$C$396) -> 15.18 | E4704: =_xlfn.XLOOKUP(C4704,'Catálogo de actividades'!$B$5:$B$396,'Catálogo de actividades'!$D$5:$D$396) -> OPL | F4704: =_xlfn.XLOOKUP(C4704,'Catálogo de actividades'!$B$5:$B$396,'Catálogo de actividades'!$E$5:$E$396) -> CG | G4704: =_xlfn.XLOOKUP(C4704,'Catálogo de actividades'!$B$5:$B$396,'Catálogo de actividades'!$F$5:$F$396) -> OPL | H4704: =_xlfn.XLOOKUP(C4704,'Catálogo de actividades'!$B$5:$B$396,'Catálogo de actividades'!$G$5:$G$396) -> OPL | I4704: 46447 | J4704: 46467
A4705: Jalisco | B4705: Candidaturas | C4705: Resolución para aprobar las Candidaturas para Diputaciones. | D4705: =_xlfn.XLOOKUP(C4705,'Catálogo de actividades'!$B$5:$B$396,'Catálogo de actividades'!$C$5:$C$396) -> 15.20 | E4705: =_xlfn.XLOOKUP(C4705,'Catálogo de actividades'!$B$5:$B$396,'Catálogo de actividades'!$D$5:$D$396) -> OPL | F4705: =_xlfn.XLOOKUP(C4705,'Catálogo de actividades'!$B$5:$B$396,'Catálogo de actividades'!$E$5:$E$396) -> CG | G4705: =_xlfn.XLOOKUP(C4705,'Catálogo de actividades'!$B$5:$B$396,'Catálogo de actividades'!$F$5:$F$396) -> OPL | H4705: =_xlfn.XLOOKUP(C4705,'Catálogo de actividades'!$B$5:$B$396,'Catálogo de actividades'!$G$5:$G$396) -> OPL | I4705: 46460 | J4705: 46480
A4706: Jalisco | B4706: Candidaturas | C4706: Resolución para aprobar las Candidaturas para Ayuntamientos. | D4706: =_xlfn.XLOOKUP(C4706,'Catálogo de actividades'!$B$5:$B$396,'Catálogo de actividades'!$C$5:$C$396) -> 15.21 | E4706: =_xlfn.XLOOKUP(C4706,'Catálogo de actividades'!$B$5:$B$396,'Catálogo de actividades'!$D$5:$D$396) -> OPL | F4706: =_xlfn.XLOOKUP(C4706,'Catálogo de actividades'!$B$5:$B$396,'Catálogo de actividades'!$E$5:$E$396) -> CG | G4706: =_xlfn.XLOOKUP(C4706,'Catálogo de actividades'!$B$5:$B$396,'Catálogo de actividades'!$F$5:$F$396) -> OPL | H4706: =_xlfn.XLOOKUP(C4706,'Catálogo de actividades'!$B$5:$B$396,'Catálogo de actividades'!$G$5:$G$396) -> OPL | I4706: 46467 | J4706: 46480
A4707: Jalisco | B4707: Candidaturas | C4707: Campaña para Diputaciones. | D4707: =_xlfn.XLOOKUP(C4707,'Catálogo de actividades'!$B$5:$B$396,'Catálogo de actividades'!$C$5:$C$396) -> 15.23 | E4707: =_xlfn.XLOOKUP(C4707,'Catálogo de actividades'!$B$5:$B$396,'Catálogo de actividades'!$D$5:$D$396) -> OPL | F4707: =_xlfn.XLOOKUP(C4707,'Catálogo de actividades'!$B$5:$B$396,'Catálogo de actividades'!$E$5:$E$396) -> CG | G4707: =_xlfn.XLOOKUP(C4707,'Catálogo de actividades'!$B$5:$B$396,'Catálogo de actividades'!$F$5:$F$396) -> OPL | H4707: =_xlfn.XLOOKUP(C4707,'Catálogo de actividades'!$B$5:$B$396,'Catálogo de actividades'!$G$5:$G$396) -> OPL | I4707: 46481 | J4707: 46540
A4708: Jalisco | B4708: Candidaturas | C4708: Campaña para Ayuntamientos. | D4708: =_xlfn.XLOOKUP(C4708,'Catálogo de actividades'!$B$5:$B$396,'Catálogo de actividades'!$C$5:$C$396) -> 15.24 | E4708: =_xlfn.XLOOKUP(C4708,'Catálogo de actividades'!$B$5:$B$396,'Catálogo de actividades'!$D$5:$D$396) -> OPL | F4708: =_xlfn.XLOOKUP(C4708,'Catálogo de actividades'!$B$5:$B$396,'Catálogo de actividades'!$E$5:$E$396) -> CG | G4708: =_xlfn.XLOOKUP(C4708,'Catálogo de actividades'!$B$5:$B$396,'Catálogo de actividades'!$F$5:$F$396) -> OPL | H4708: =_xlfn.XLOOKUP(C4708,'Catálogo de actividades'!$B$5:$B$396,'Catálogo de actividades'!$G$5:$G$396) -> OPL | I4708: 46481 | J4708: 46540
...
